BEGIN:VCALENDAR
VERSION:2.0
PRODID: -//Q4 Inc.//EN
METHOD:PUBLISH
BEGIN:VTIMEZONE
TZID:America/New_York
X-LIC-LOCATION:America/New_York
BEGIN:DAYLIGHT
TZOFFSETFROM:-0500
TZOFFSETTO:-0400
TZNAME:EDT
DTSTART:19700308T020000
RRULE:FREQ=YEARLY;BYMONTH=3;BYDAY=2SU
END:DAYLIGHT
BEGIN:STANDARD
TZOFFSETFROM:-0400
TZOFFSETTO:-0500
TZNAME:EST
DTSTART:19701101T020000
RRULE:FREQ=YEARLY;BYMONTH=11;BYDAY=1SU
END:STANDARD
END:VTIMEZONE
BEGIN:VEVENT
ORGANIZER:MAILTO:info@blank.q4web.com
DTSTART;TZID="America/New_York":20220420T130000
DTEND;TZID="America/New_York":20220420T140000
LOCATION:Virtual
UID:5245d767-7d4b-4ec2-b733-36679920a33f
DTSTAMP:20260424T154249
SUMMARY:2022 Annual Meeting
DESCRIPTION: View More Information: https://investors.tripointehomes.com/investors/events-and-presentations/earnings-webcasts/event-details/2022/2022-Annual-Meeting/default.aspx
URL;VALUE=URI:https://investors.tripointehomes.com/investors/events-and-presentations/earnings-webcasts/event-details/2022/2022-Annual-Meeting/default.aspx
PRIORITY:5
CLASS:PUBLIC
END:VEVENT
END:VCALENDAR
