BEGIN:VCALENDAR
VERSION:2.0
PRODID: -//Q4 Inc.//EN
METHOD:PUBLISH
BEGIN:VTIMEZONE
TZID:America/New_York
X-LIC-LOCATION:America/New_York
BEGIN:DAYLIGHT
TZOFFSETFROM:-0500
TZOFFSETTO:-0400
TZNAME:EDT
DTSTART:19700308T020000
RRULE:FREQ=YEARLY;BYMONTH=3;BYDAY=2SU
END:DAYLIGHT
BEGIN:STANDARD
TZOFFSETFROM:-0400
TZOFFSETTO:-0500
TZNAME:EST
DTSTART:19701101T020000
RRULE:FREQ=YEARLY;BYMONTH=11;BYDAY=1SU
END:STANDARD
END:VTIMEZONE
BEGIN:VEVENT
ORGANIZER:MAILTO:info@blank.q4web.com
DTSTART;TZID="America/New_York":20210421T130000
DTEND;TZID="America/New_York":20210421T140000
LOCATION:
UID:4d9132c5-d626-4995-9ef3-35b487dc20e4
DTSTAMP:20260424T173410
SUMMARY:Tri Pointe Homes, Inc. Annual Meeting 2021
DESCRIPTION: View More Information: https://investors.tripointehomes.com/investors/events-and-presentations/earnings-webcasts/event-details/2021/Tri-Pointe-Homes-Inc-Annual-Meeting-2021/default.aspx
URL;VALUE=URI:https://investors.tripointehomes.com/investors/events-and-presentations/earnings-webcasts/event-details/2021/Tri-Pointe-Homes-Inc-Annual-Meeting-2021/default.aspx
PRIORITY:5
CLASS:PUBLIC
END:VEVENT
END:VCALENDAR
