BEGIN:VCALENDAR
VERSION:2.0
PRODID: -//Q4 Inc.//EN
METHOD:PUBLISH
BEGIN:VTIMEZONE
TZID:America/New_York
X-LIC-LOCATION:America/New_York
BEGIN:DAYLIGHT
TZOFFSETFROM:-0500
TZOFFSETTO:-0400
TZNAME:EDT
DTSTART:19700308T020000
RRULE:FREQ=YEARLY;BYMONTH=3;BYDAY=2SU
END:DAYLIGHT
BEGIN:STANDARD
TZOFFSETFROM:-0400
TZOFFSETTO:-0500
TZNAME:EST
DTSTART:19701101T020000
RRULE:FREQ=YEARLY;BYMONTH=11;BYDAY=1SU
END:STANDARD
END:VTIMEZONE
BEGIN:VEVENT
ORGANIZER:MAILTO:info@blank.q4web.com
DTSTART;TZID="America/New_York":20150303T100000
DTEND;TZID="America/New_York":20150303T100000
LOCATION:
UID:4cec1a09-694a-447c-b1a6-e44f39912f49
DTSTAMP:20260424T171405
SUMMARY:Q4 2014 and Full Year TRI Pointe Group, Inc. Earnings Conference Call
DESCRIPTION: View More Information: https://investors.tripointehomes.com/investors/events-and-presentations/earnings-webcasts/event-details/2015/Q4-2014-and-Full-Year-TRI-Pointe-Homes-Inc-Earnings-Conference-Call-/default.aspx
URL;VALUE=URI:https://investors.tripointehomes.com/investors/events-and-presentations/earnings-webcasts/event-details/2015/Q4-2014-and-Full-Year-TRI-Pointe-Homes-Inc-Earnings-Conference-Call-/default.aspx
PRIORITY:5
CLASS:PUBLIC
END:VEVENT
END:VCALENDAR
