BEGIN:VCALENDAR
VERSION:2.0
PRODID: -//Q4 Inc.//EN
METHOD:PUBLISH
BEGIN:VTIMEZONE
TZID:America/New_York
X-LIC-LOCATION:America/New_York
BEGIN:DAYLIGHT
TZOFFSETFROM:-0500
TZOFFSETTO:-0400
TZNAME:EDT
DTSTART:19700308T020000
RRULE:FREQ=YEARLY;BYMONTH=3;BYDAY=2SU
END:DAYLIGHT
BEGIN:STANDARD
TZOFFSETFROM:-0400
TZOFFSETTO:-0500
TZNAME:EST
DTSTART:19701101T020000
RRULE:FREQ=YEARLY;BYMONTH=11;BYDAY=1SU
END:STANDARD
END:VTIMEZONE
BEGIN:VEVENT
ORGANIZER:MAILTO:info@blank.q4web.com
DTSTART;TZID="America/New_York":20160226T100000
DTEND;TZID="America/New_York":20160226T110000
LOCATION:
UID:50ea90ef-d43e-4526-b760-b3479ed4f611
DTSTAMP:20260424T173147
SUMMARY:Q4 2015 TRI Pointe Group, Inc. Earnings Conference Call
DESCRIPTION: View More Information: https://investors.tripointehomes.com/investors/events-and-presentations/earnings-webcasts/event-details/2016/Q4-2015-TRI-Pointe-Homes-Inc-Earnings-Conference-Call/default.aspx
URL;VALUE=URI:https://investors.tripointehomes.com/investors/events-and-presentations/earnings-webcasts/event-details/2016/Q4-2015-TRI-Pointe-Homes-Inc-Earnings-Conference-Call/default.aspx
PRIORITY:5
CLASS:PUBLIC
END:VEVENT
END:VCALENDAR
